BEGIN:VCALENDAR
VERSION:2.0
METHOD:PUBLISH
BEGIN:VEVENT
UID:federal-budget-lunch-2026@gcncc.org.au
SUMMARY:Federal Budget Lunch 2026
DESCRIPTION:From Canberra to the Coast: What the Federal Budget means for Gold Coast b
 usinesses
LOCATION:Seaworld Resort Conference Centre\, Seaworld Drive\, Main Beach\, QLD 4217
 
DTSTAMP:20260423T065400Z
DTSTART:20260522T013000Z
DTEND:20260522T043000Z
END:VEVENT
END:VCALENDAR
